BEGIN:VCALENDAR
VERSION:2.0
PRODID:-//AMVETS Post 18 - ECPv6.15.20//NONSGML v1.0//EN
CALSCALE:GREGORIAN
METHOD:PUBLISH
X-WR-CALNAME:AMVETS Post 18
X-ORIGINAL-URL:https://amvetsva18.org
X-WR-CALDESC:Events for AMVETS Post 18
REFRESH-INTERVAL;VALUE=DURATION:PT1H
X-Robots-Tag:noindex
X-PUBLISHED-TTL:PT1H
BEGIN:VTIMEZONE
TZID:America/New_York
BEGIN:DAYLIGHT
TZOFFSETFROM:-0500
TZOFFSETTO:-0400
TZNAME:EDT
DTSTART:20250309T070000
END:DAYLIGHT
BEGIN:STANDARD
TZOFFSETFROM:-0400
TZOFFSETTO:-0500
TZNAME:EST
DTSTART:20251102T060000
END:STANDARD
BEGIN:DAYLIGHT
TZOFFSETFROM:-0500
TZOFFSETTO:-0400
TZNAME:EDT
DTSTART:20260308T070000
END:DAYLIGHT
BEGIN:STANDARD
TZOFFSETFROM:-0400
TZOFFSETTO:-0500
TZNAME:EST
DTSTART:20261101T060000
END:STANDARD
BEGIN:DAYLIGHT
TZOFFSETFROM:-0500
TZOFFSETTO:-0400
TZNAME:EDT
DTSTART:20270314T070000
END:DAYLIGHT
BEGIN:STANDARD
TZOFFSETFROM:-0400
TZOFFSETTO:-0500
TZNAME:EST
DTSTART:20271107T060000
END:STANDARD
END:VTIMEZONE
BEGIN:VEVENT
DTSTART;TZID=America/New_York:20260422T183000
DTEND;TZID=America/New_York:20260422T193000
DTSTAMP:20260418T030037
CREATED:20230312T203322Z
LAST-MODIFIED:20230312T203631Z
UID:10000280-1776882600-1776886200@amvetsva18.org
SUMMARY:Sons Chapter Meeting
DESCRIPTION:Monthly Sons of AMVETS Chapter meeting at Post Home
URL:https://amvetsva18.org/event/sons-chapter-meeting/2026-04-22/
END:VEVENT
BEGIN:VEVENT
DTSTART;TZID=America/New_York:20260520T183000
DTEND;TZID=America/New_York:20260520T193000
DTSTAMP:20260418T030037
CREATED:20230312T200304Z
LAST-MODIFIED:20230312T200304Z
UID:10000041-1779301800-1779305400@amvetsva18.org
SUMMARY:Monthly Membership Meeting
DESCRIPTION:Monthly membership meeting starts at 6:30 pm and lasts for approximately 1 hour. Meeting agenda is available here: AV18_MEMBERSHIP_AGENDA_15MAR2023.
URL:https://amvetsva18.org/event/monthly-membership-meeting/2026-05-20/
ORGANIZER;CN="AMVETS Post 18":MAILTO:amvetsva18@gmail.com
END:VEVENT
BEGIN:VEVENT
DTSTART;TZID=America/New_York:20260520T183000
DTEND;TZID=America/New_York:20260520T193000
DTSTAMP:20260418T030037
CREATED:20230312T203552Z
LAST-MODIFIED:20230312T203552Z
UID:10000221-1779301800-1779305400@amvetsva18.org
SUMMARY:Ladies Auxiliary Meeting
DESCRIPTION:Monthly Ladies Auxiliary meeting at Post Home. 6:30 pm to 7:30 pm.
URL:https://amvetsva18.org/event/ladies-auxiliary-meeting/2026-05-20/
END:VEVENT
BEGIN:VEVENT
DTSTART;TZID=America/New_York:20260521T190000
DTEND;TZID=America/New_York:20260521T200000
DTSTAMP:20260418T030037
CREATED:20230312T201449Z
LAST-MODIFIED:20230312T201449Z
UID:10000101-1779390000-1779393600@amvetsva18.org
SUMMARY:AMVETS Riders Meeting
DESCRIPTION:Monthly membership meeting at Post Home.
URL:https://amvetsva18.org/event/amvets-riders-meeting/2026-05-21/
END:VEVENT
BEGIN:VEVENT
DTSTART;TZID=America/New_York:20260527T183000
DTEND;TZID=America/New_York:20260527T193000
DTSTAMP:20260418T030037
CREATED:20230312T203322Z
LAST-MODIFIED:20230312T203631Z
UID:10000281-1779906600-1779910200@amvetsva18.org
SUMMARY:Sons Chapter Meeting
DESCRIPTION:Monthly Sons of AMVETS Chapter meeting at Post Home
URL:https://amvetsva18.org/event/sons-chapter-meeting/2026-05-27/
END:VEVENT
BEGIN:VEVENT
DTSTART;TZID=America/New_York:20260617T183000
DTEND;TZID=America/New_York:20260617T193000
DTSTAMP:20260418T030037
CREATED:20230312T200304Z
LAST-MODIFIED:20230312T200304Z
UID:10000042-1781721000-1781724600@amvetsva18.org
SUMMARY:Monthly Membership Meeting
DESCRIPTION:Monthly membership meeting starts at 6:30 pm and lasts for approximately 1 hour. Meeting agenda is available here: AV18_MEMBERSHIP_AGENDA_15MAR2023.
URL:https://amvetsva18.org/event/monthly-membership-meeting/2026-06-17/
ORGANIZER;CN="AMVETS Post 18":MAILTO:amvetsva18@gmail.com
END:VEVENT
BEGIN:VEVENT
DTSTART;TZID=America/New_York:20260617T183000
DTEND;TZID=America/New_York:20260617T193000
DTSTAMP:20260418T030037
CREATED:20230312T203552Z
LAST-MODIFIED:20230312T203552Z
UID:10000222-1781721000-1781724600@amvetsva18.org
SUMMARY:Ladies Auxiliary Meeting
DESCRIPTION:Monthly Ladies Auxiliary meeting at Post Home. 6:30 pm to 7:30 pm.
URL:https://amvetsva18.org/event/ladies-auxiliary-meeting/2026-06-17/
END:VEVENT
BEGIN:VEVENT
DTSTART;TZID=America/New_York:20260618T190000
DTEND;TZID=America/New_York:20260618T200000
DTSTAMP:20260418T030037
CREATED:20230312T201449Z
LAST-MODIFIED:20230312T201449Z
UID:10000102-1781809200-1781812800@amvetsva18.org
SUMMARY:AMVETS Riders Meeting
DESCRIPTION:Monthly membership meeting at Post Home.
URL:https://amvetsva18.org/event/amvets-riders-meeting/2026-06-18/
END:VEVENT
BEGIN:VEVENT
DTSTART;TZID=America/New_York:20260624T183000
DTEND;TZID=America/New_York:20260624T193000
DTSTAMP:20260418T030037
CREATED:20230312T203322Z
LAST-MODIFIED:20230312T203631Z
UID:10000282-1782325800-1782329400@amvetsva18.org
SUMMARY:Sons Chapter Meeting
DESCRIPTION:Monthly Sons of AMVETS Chapter meeting at Post Home
URL:https://amvetsva18.org/event/sons-chapter-meeting/2026-06-24/
END:VEVENT
BEGIN:VEVENT
DTSTART;TZID=America/New_York:20260715T183000
DTEND;TZID=America/New_York:20260715T193000
DTSTAMP:20260418T030037
CREATED:20230312T200304Z
LAST-MODIFIED:20230312T200304Z
UID:10000043-1784140200-1784143800@amvetsva18.org
SUMMARY:Monthly Membership Meeting
DESCRIPTION:Monthly membership meeting starts at 6:30 pm and lasts for approximately 1 hour. Meeting agenda is available here: AV18_MEMBERSHIP_AGENDA_15MAR2023.
URL:https://amvetsva18.org/event/monthly-membership-meeting/2026-07-15/
ORGANIZER;CN="AMVETS Post 18":MAILTO:amvetsva18@gmail.com
END:VEVENT
BEGIN:VEVENT
DTSTART;TZID=America/New_York:20260715T183000
DTEND;TZID=America/New_York:20260715T193000
DTSTAMP:20260418T030037
CREATED:20230312T203552Z
LAST-MODIFIED:20230312T203552Z
UID:10000223-1784140200-1784143800@amvetsva18.org
SUMMARY:Ladies Auxiliary Meeting
DESCRIPTION:Monthly Ladies Auxiliary meeting at Post Home. 6:30 pm to 7:30 pm.
URL:https://amvetsva18.org/event/ladies-auxiliary-meeting/2026-07-15/
END:VEVENT
BEGIN:VEVENT
DTSTART;TZID=America/New_York:20260716T190000
DTEND;TZID=America/New_York:20260716T200000
DTSTAMP:20260418T030037
CREATED:20230312T201449Z
LAST-MODIFIED:20230312T201449Z
UID:10000103-1784228400-1784232000@amvetsva18.org
SUMMARY:AMVETS Riders Meeting
DESCRIPTION:Monthly membership meeting at Post Home.
URL:https://amvetsva18.org/event/amvets-riders-meeting/2026-07-16/
END:VEVENT
BEGIN:VEVENT
DTSTART;TZID=America/New_York:20260722T183000
DTEND;TZID=America/New_York:20260722T193000
DTSTAMP:20260418T030037
CREATED:20230312T203322Z
LAST-MODIFIED:20230312T203631Z
UID:10000283-1784745000-1784748600@amvetsva18.org
SUMMARY:Sons Chapter Meeting
DESCRIPTION:Monthly Sons of AMVETS Chapter meeting at Post Home
URL:https://amvetsva18.org/event/sons-chapter-meeting/2026-07-22/
END:VEVENT
BEGIN:VEVENT
DTSTART;TZID=America/New_York:20260819T183000
DTEND;TZID=America/New_York:20260819T193000
DTSTAMP:20260418T030037
CREATED:20230312T200304Z
LAST-MODIFIED:20230312T200304Z
UID:10000044-1787164200-1787167800@amvetsva18.org
SUMMARY:Monthly Membership Meeting
DESCRIPTION:Monthly membership meeting starts at 6:30 pm and lasts for approximately 1 hour. Meeting agenda is available here: AV18_MEMBERSHIP_AGENDA_15MAR2023.
URL:https://amvetsva18.org/event/monthly-membership-meeting/2026-08-19/
ORGANIZER;CN="AMVETS Post 18":MAILTO:amvetsva18@gmail.com
END:VEVENT
BEGIN:VEVENT
DTSTART;TZID=America/New_York:20260819T183000
DTEND;TZID=America/New_York:20260819T193000
DTSTAMP:20260418T030037
CREATED:20230312T203552Z
LAST-MODIFIED:20230312T203552Z
UID:10000224-1787164200-1787167800@amvetsva18.org
SUMMARY:Ladies Auxiliary Meeting
DESCRIPTION:Monthly Ladies Auxiliary meeting at Post Home. 6:30 pm to 7:30 pm.
URL:https://amvetsva18.org/event/ladies-auxiliary-meeting/2026-08-19/
END:VEVENT
BEGIN:VEVENT
DTSTART;TZID=America/New_York:20260820T190000
DTEND;TZID=America/New_York:20260820T200000
DTSTAMP:20260418T030037
CREATED:20230312T201449Z
LAST-MODIFIED:20230312T201449Z
UID:10000104-1787252400-1787256000@amvetsva18.org
SUMMARY:AMVETS Riders Meeting
DESCRIPTION:Monthly membership meeting at Post Home.
URL:https://amvetsva18.org/event/amvets-riders-meeting/2026-08-20/
END:VEVENT
BEGIN:VEVENT
DTSTART;TZID=America/New_York:20260826T183000
DTEND;TZID=America/New_York:20260826T193000
DTSTAMP:20260418T030037
CREATED:20230312T203322Z
LAST-MODIFIED:20230312T203631Z
UID:10000284-1787769000-1787772600@amvetsva18.org
SUMMARY:Sons Chapter Meeting
DESCRIPTION:Monthly Sons of AMVETS Chapter meeting at Post Home
URL:https://amvetsva18.org/event/sons-chapter-meeting/2026-08-26/
END:VEVENT
BEGIN:VEVENT
DTSTART;TZID=America/New_York:20260916T183000
DTEND;TZID=America/New_York:20260916T193000
DTSTAMP:20260418T030037
CREATED:20230312T200304Z
LAST-MODIFIED:20230312T200304Z
UID:10000045-1789583400-1789587000@amvetsva18.org
SUMMARY:Monthly Membership Meeting
DESCRIPTION:Monthly membership meeting starts at 6:30 pm and lasts for approximately 1 hour. Meeting agenda is available here: AV18_MEMBERSHIP_AGENDA_15MAR2023.
URL:https://amvetsva18.org/event/monthly-membership-meeting/2026-09-16/
ORGANIZER;CN="AMVETS Post 18":MAILTO:amvetsva18@gmail.com
END:VEVENT
BEGIN:VEVENT
DTSTART;TZID=America/New_York:20260916T183000
DTEND;TZID=America/New_York:20260916T193000
DTSTAMP:20260418T030037
CREATED:20230312T203552Z
LAST-MODIFIED:20230312T203552Z
UID:10000225-1789583400-1789587000@amvetsva18.org
SUMMARY:Ladies Auxiliary Meeting
DESCRIPTION:Monthly Ladies Auxiliary meeting at Post Home. 6:30 pm to 7:30 pm.
URL:https://amvetsva18.org/event/ladies-auxiliary-meeting/2026-09-16/
END:VEVENT
BEGIN:VEVENT
DTSTART;TZID=America/New_York:20260917T190000
DTEND;TZID=America/New_York:20260917T200000
DTSTAMP:20260418T030037
CREATED:20230312T201449Z
LAST-MODIFIED:20230312T201449Z
UID:10000105-1789671600-1789675200@amvetsva18.org
SUMMARY:AMVETS Riders Meeting
DESCRIPTION:Monthly membership meeting at Post Home.
URL:https://amvetsva18.org/event/amvets-riders-meeting/2026-09-17/
END:VEVENT
BEGIN:VEVENT
DTSTART;TZID=America/New_York:20260923T183000
DTEND;TZID=America/New_York:20260923T193000
DTSTAMP:20260418T030037
CREATED:20230312T203322Z
LAST-MODIFIED:20230312T203631Z
UID:10000285-1790188200-1790191800@amvetsva18.org
SUMMARY:Sons Chapter Meeting
DESCRIPTION:Monthly Sons of AMVETS Chapter meeting at Post Home
URL:https://amvetsva18.org/event/sons-chapter-meeting/2026-09-23/
END:VEVENT
BEGIN:VEVENT
DTSTART;TZID=America/New_York:20261015T190000
DTEND;TZID=America/New_York:20261015T200000
DTSTAMP:20260418T030037
CREATED:20230312T201449Z
LAST-MODIFIED:20230312T201449Z
UID:10000106-1792090800-1792094400@amvetsva18.org
SUMMARY:AMVETS Riders Meeting
DESCRIPTION:Monthly membership meeting at Post Home.
URL:https://amvetsva18.org/event/amvets-riders-meeting/2026-10-15/
END:VEVENT
BEGIN:VEVENT
DTSTART;TZID=America/New_York:20261021T183000
DTEND;TZID=America/New_York:20261021T193000
DTSTAMP:20260418T030037
CREATED:20230312T200304Z
LAST-MODIFIED:20230312T200304Z
UID:10000046-1792607400-1792611000@amvetsva18.org
SUMMARY:Monthly Membership Meeting
DESCRIPTION:Monthly membership meeting starts at 6:30 pm and lasts for approximately 1 hour. Meeting agenda is available here: AV18_MEMBERSHIP_AGENDA_15MAR2023.
URL:https://amvetsva18.org/event/monthly-membership-meeting/2026-10-21/
ORGANIZER;CN="AMVETS Post 18":MAILTO:amvetsva18@gmail.com
END:VEVENT
BEGIN:VEVENT
DTSTART;TZID=America/New_York:20261021T183000
DTEND;TZID=America/New_York:20261021T193000
DTSTAMP:20260418T030037
CREATED:20230312T203552Z
LAST-MODIFIED:20230312T203552Z
UID:10000226-1792607400-1792611000@amvetsva18.org
SUMMARY:Ladies Auxiliary Meeting
DESCRIPTION:Monthly Ladies Auxiliary meeting at Post Home. 6:30 pm to 7:30 pm.
URL:https://amvetsva18.org/event/ladies-auxiliary-meeting/2026-10-21/
END:VEVENT
BEGIN:VEVENT
DTSTART;TZID=America/New_York:20261028T183000
DTEND;TZID=America/New_York:20261028T193000
DTSTAMP:20260418T030037
CREATED:20230312T203322Z
LAST-MODIFIED:20230312T203631Z
UID:10000286-1793212200-1793215800@amvetsva18.org
SUMMARY:Sons Chapter Meeting
DESCRIPTION:Monthly Sons of AMVETS Chapter meeting at Post Home
URL:https://amvetsva18.org/event/sons-chapter-meeting/2026-10-28/
END:VEVENT
BEGIN:VEVENT
DTSTART;TZID=America/New_York:20261118T183000
DTEND;TZID=America/New_York:20261118T193000
DTSTAMP:20260418T030037
CREATED:20230312T200304Z
LAST-MODIFIED:20230312T200304Z
UID:10000047-1795026600-1795030200@amvetsva18.org
SUMMARY:Monthly Membership Meeting
DESCRIPTION:Monthly membership meeting starts at 6:30 pm and lasts for approximately 1 hour. Meeting agenda is available here: AV18_MEMBERSHIP_AGENDA_15MAR2023.
URL:https://amvetsva18.org/event/monthly-membership-meeting/2026-11-18/
ORGANIZER;CN="AMVETS Post 18":MAILTO:amvetsva18@gmail.com
END:VEVENT
BEGIN:VEVENT
DTSTART;TZID=America/New_York:20261118T183000
DTEND;TZID=America/New_York:20261118T193000
DTSTAMP:20260418T030037
CREATED:20230312T203552Z
LAST-MODIFIED:20230312T203552Z
UID:10000227-1795026600-1795030200@amvetsva18.org
SUMMARY:Ladies Auxiliary Meeting
DESCRIPTION:Monthly Ladies Auxiliary meeting at Post Home. 6:30 pm to 7:30 pm.
URL:https://amvetsva18.org/event/ladies-auxiliary-meeting/2026-11-18/
END:VEVENT
BEGIN:VEVENT
DTSTART;TZID=America/New_York:20261119T190000
DTEND;TZID=America/New_York:20261119T200000
DTSTAMP:20260418T030037
CREATED:20230312T201449Z
LAST-MODIFIED:20230312T201449Z
UID:10000107-1795114800-1795118400@amvetsva18.org
SUMMARY:AMVETS Riders Meeting
DESCRIPTION:Monthly membership meeting at Post Home.
URL:https://amvetsva18.org/event/amvets-riders-meeting/2026-11-19/
END:VEVENT
BEGIN:VEVENT
DTSTART;TZID=America/New_York:20261125T183000
DTEND;TZID=America/New_York:20261125T193000
DTSTAMP:20260418T030037
CREATED:20230312T203322Z
LAST-MODIFIED:20230312T203631Z
UID:10000287-1795631400-1795635000@amvetsva18.org
SUMMARY:Sons Chapter Meeting
DESCRIPTION:Monthly Sons of AMVETS Chapter meeting at Post Home
URL:https://amvetsva18.org/event/sons-chapter-meeting/2026-11-25/
END:VEVENT
BEGIN:VEVENT
DTSTART;TZID=America/New_York:20261216T183000
DTEND;TZID=America/New_York:20261216T193000
DTSTAMP:20260418T030037
CREATED:20230312T200304Z
LAST-MODIFIED:20230312T200304Z
UID:10000048-1797445800-1797449400@amvetsva18.org
SUMMARY:Monthly Membership Meeting
DESCRIPTION:Monthly membership meeting starts at 6:30 pm and lasts for approximately 1 hour. Meeting agenda is available here: AV18_MEMBERSHIP_AGENDA_15MAR2023.
URL:https://amvetsva18.org/event/monthly-membership-meeting/2026-12-16/
ORGANIZER;CN="AMVETS Post 18":MAILTO:amvetsva18@gmail.com
END:VEVENT
END:VCALENDAR