BEGIN:VCALENDAR
VERSION:2.0
PRODID:-//AMVETS Post 18 - ECPv6.15.20//NONSGML v1.0//EN
CALSCALE:GREGORIAN
METHOD:PUBLISH
X-WR-CALNAME:AMVETS Post 18
X-ORIGINAL-URL:https://amvetsva18.org
X-WR-CALDESC:Events for AMVETS Post 18
REFRESH-INTERVAL;VALUE=DURATION:PT1H
X-Robots-Tag:noindex
X-PUBLISHED-TTL:PT1H
BEGIN:VTIMEZONE
TZID:America/New_York
BEGIN:DAYLIGHT
TZOFFSETFROM:-0500
TZOFFSETTO:-0400
TZNAME:EDT
DTSTART:20250309T070000
END:DAYLIGHT
BEGIN:STANDARD
TZOFFSETFROM:-0400
TZOFFSETTO:-0500
TZNAME:EST
DTSTART:20251102T060000
END:STANDARD
BEGIN:DAYLIGHT
TZOFFSETFROM:-0500
TZOFFSETTO:-0400
TZNAME:EDT
DTSTART:20260308T070000
END:DAYLIGHT
BEGIN:STANDARD
TZOFFSETFROM:-0400
TZOFFSETTO:-0500
TZNAME:EST
DTSTART:20261101T060000
END:STANDARD
BEGIN:DAYLIGHT
TZOFFSETFROM:-0500
TZOFFSETTO:-0400
TZNAME:EDT
DTSTART:20270314T070000
END:DAYLIGHT
BEGIN:STANDARD
TZOFFSETFROM:-0400
TZOFFSETTO:-0500
TZNAME:EST
DTSTART:20271107T060000
END:STANDARD
BEGIN:DAYLIGHT
TZOFFSETFROM:-0500
TZOFFSETTO:-0400
TZNAME:EDT
DTSTART:20280312T070000
END:DAYLIGHT
BEGIN:STANDARD
TZOFFSETFROM:-0400
TZOFFSETTO:-0500
TZNAME:EST
DTSTART:20281105T060000
END:STANDARD
BEGIN:DAYLIGHT
TZOFFSETFROM:-0500
TZOFFSETTO:-0400
TZNAME:EDT
DTSTART:20290311T070000
END:DAYLIGHT
BEGIN:STANDARD
TZOFFSETFROM:-0400
TZOFFSETTO:-0500
TZNAME:EST
DTSTART:20291104T060000
END:STANDARD
END:VTIMEZONE
BEGIN:VEVENT
DTSTART;TZID=America/New_York:20260520T183000
DTEND;TZID=America/New_York:20260520T193000
DTSTAMP:20260419T234127
CREATED:20230312T200304Z
LAST-MODIFIED:20230312T200304Z
UID:10000041-1779301800-1779305400@amvetsva18.org
SUMMARY:Monthly Membership Meeting
DESCRIPTION:Monthly membership meeting starts at 6:30 pm and lasts for approximately 1 hour. Meeting agenda is available here: AV18_MEMBERSHIP_AGENDA_15MAR2023.
URL:https://amvetsva18.org/event/monthly-membership-meeting/2026-05-20/
ORGANIZER;CN="AMVETS Post 18":MAILTO:amvetsva18@gmail.com
END:VEVENT
BEGIN:VEVENT
DTSTART;TZID=America/New_York:20260617T183000
DTEND;TZID=America/New_York:20260617T193000
DTSTAMP:20260419T234127
CREATED:20230312T200304Z
LAST-MODIFIED:20230312T200304Z
UID:10000042-1781721000-1781724600@amvetsva18.org
SUMMARY:Monthly Membership Meeting
DESCRIPTION:Monthly membership meeting starts at 6:30 pm and lasts for approximately 1 hour. Meeting agenda is available here: AV18_MEMBERSHIP_AGENDA_15MAR2023.
URL:https://amvetsva18.org/event/monthly-membership-meeting/2026-06-17/
ORGANIZER;CN="AMVETS Post 18":MAILTO:amvetsva18@gmail.com
END:VEVENT
BEGIN:VEVENT
DTSTART;TZID=America/New_York:20260715T183000
DTEND;TZID=America/New_York:20260715T193000
DTSTAMP:20260419T234127
CREATED:20230312T200304Z
LAST-MODIFIED:20230312T200304Z
UID:10000043-1784140200-1784143800@amvetsva18.org
SUMMARY:Monthly Membership Meeting
DESCRIPTION:Monthly membership meeting starts at 6:30 pm and lasts for approximately 1 hour. Meeting agenda is available here: AV18_MEMBERSHIP_AGENDA_15MAR2023.
URL:https://amvetsva18.org/event/monthly-membership-meeting/2026-07-15/
ORGANIZER;CN="AMVETS Post 18":MAILTO:amvetsva18@gmail.com
END:VEVENT
BEGIN:VEVENT
DTSTART;TZID=America/New_York:20260819T183000
DTEND;TZID=America/New_York:20260819T193000
DTSTAMP:20260419T234127
CREATED:20230312T200304Z
LAST-MODIFIED:20230312T200304Z
UID:10000044-1787164200-1787167800@amvetsva18.org
SUMMARY:Monthly Membership Meeting
DESCRIPTION:Monthly membership meeting starts at 6:30 pm and lasts for approximately 1 hour. Meeting agenda is available here: AV18_MEMBERSHIP_AGENDA_15MAR2023.
URL:https://amvetsva18.org/event/monthly-membership-meeting/2026-08-19/
ORGANIZER;CN="AMVETS Post 18":MAILTO:amvetsva18@gmail.com
END:VEVENT
BEGIN:VEVENT
DTSTART;TZID=America/New_York:20260916T183000
DTEND;TZID=America/New_York:20260916T193000
DTSTAMP:20260419T234127
CREATED:20230312T200304Z
LAST-MODIFIED:20230312T200304Z
UID:10000045-1789583400-1789587000@amvetsva18.org
SUMMARY:Monthly Membership Meeting
DESCRIPTION:Monthly membership meeting starts at 6:30 pm and lasts for approximately 1 hour. Meeting agenda is available here: AV18_MEMBERSHIP_AGENDA_15MAR2023.
URL:https://amvetsva18.org/event/monthly-membership-meeting/2026-09-16/
ORGANIZER;CN="AMVETS Post 18":MAILTO:amvetsva18@gmail.com
END:VEVENT
BEGIN:VEVENT
DTSTART;TZID=America/New_York:20261021T183000
DTEND;TZID=America/New_York:20261021T193000
DTSTAMP:20260419T234127
CREATED:20230312T200304Z
LAST-MODIFIED:20230312T200304Z
UID:10000046-1792607400-1792611000@amvetsva18.org
SUMMARY:Monthly Membership Meeting
DESCRIPTION:Monthly membership meeting starts at 6:30 pm and lasts for approximately 1 hour. Meeting agenda is available here: AV18_MEMBERSHIP_AGENDA_15MAR2023.
URL:https://amvetsva18.org/event/monthly-membership-meeting/2026-10-21/
ORGANIZER;CN="AMVETS Post 18":MAILTO:amvetsva18@gmail.com
END:VEVENT
BEGIN:VEVENT
DTSTART;TZID=America/New_York:20261118T183000
DTEND;TZID=America/New_York:20261118T193000
DTSTAMP:20260419T234127
CREATED:20230312T200304Z
LAST-MODIFIED:20230312T200304Z
UID:10000047-1795026600-1795030200@amvetsva18.org
SUMMARY:Monthly Membership Meeting
DESCRIPTION:Monthly membership meeting starts at 6:30 pm and lasts for approximately 1 hour. Meeting agenda is available here: AV18_MEMBERSHIP_AGENDA_15MAR2023.
URL:https://amvetsva18.org/event/monthly-membership-meeting/2026-11-18/
ORGANIZER;CN="AMVETS Post 18":MAILTO:amvetsva18@gmail.com
END:VEVENT
BEGIN:VEVENT
DTSTART;TZID=America/New_York:20261216T183000
DTEND;TZID=America/New_York:20261216T193000
DTSTAMP:20260419T234127
CREATED:20230312T200304Z
LAST-MODIFIED:20230312T200304Z
UID:10000048-1797445800-1797449400@amvetsva18.org
SUMMARY:Monthly Membership Meeting
DESCRIPTION:Monthly membership meeting starts at 6:30 pm and lasts for approximately 1 hour. Meeting agenda is available here: AV18_MEMBERSHIP_AGENDA_15MAR2023.
URL:https://amvetsva18.org/event/monthly-membership-meeting/2026-12-16/
ORGANIZER;CN="AMVETS Post 18":MAILTO:amvetsva18@gmail.com
END:VEVENT
BEGIN:VEVENT
DTSTART;TZID=America/New_York:20270120T183000
DTEND;TZID=America/New_York:20270120T193000
DTSTAMP:20260419T234127
CREATED:20230312T200304Z
LAST-MODIFIED:20230312T200304Z
UID:10000049-1800469800-1800473400@amvetsva18.org
SUMMARY:Monthly Membership Meeting
DESCRIPTION:Monthly membership meeting starts at 6:30 pm and lasts for approximately 1 hour. Meeting agenda is available here: AV18_MEMBERSHIP_AGENDA_15MAR2023.
URL:https://amvetsva18.org/event/monthly-membership-meeting/2027-01-20/
ORGANIZER;CN="AMVETS Post 18":MAILTO:amvetsva18@gmail.com
END:VEVENT
BEGIN:VEVENT
DTSTART;TZID=America/New_York:20270217T183000
DTEND;TZID=America/New_York:20270217T193000
DTSTAMP:20260419T234127
CREATED:20230312T200304Z
LAST-MODIFIED:20230312T200304Z
UID:10000050-1802889000-1802892600@amvetsva18.org
SUMMARY:Monthly Membership Meeting
DESCRIPTION:Monthly membership meeting starts at 6:30 pm and lasts for approximately 1 hour. Meeting agenda is available here: AV18_MEMBERSHIP_AGENDA_15MAR2023.
URL:https://amvetsva18.org/event/monthly-membership-meeting/2027-02-17/
ORGANIZER;CN="AMVETS Post 18":MAILTO:amvetsva18@gmail.com
END:VEVENT
BEGIN:VEVENT
DTSTART;TZID=America/New_York:20270317T183000
DTEND;TZID=America/New_York:20270317T193000
DTSTAMP:20260419T234127
CREATED:20230312T200304Z
LAST-MODIFIED:20230312T200304Z
UID:10000051-1805308200-1805311800@amvetsva18.org
SUMMARY:Monthly Membership Meeting
DESCRIPTION:Monthly membership meeting starts at 6:30 pm and lasts for approximately 1 hour. Meeting agenda is available here: AV18_MEMBERSHIP_AGENDA_15MAR2023.
URL:https://amvetsva18.org/event/monthly-membership-meeting/2027-03-17/
ORGANIZER;CN="AMVETS Post 18":MAILTO:amvetsva18@gmail.com
END:VEVENT
BEGIN:VEVENT
DTSTART;TZID=America/New_York:20270421T183000
DTEND;TZID=America/New_York:20270421T193000
DTSTAMP:20260419T234127
CREATED:20230312T200304Z
LAST-MODIFIED:20230312T200304Z
UID:10000052-1808332200-1808335800@amvetsva18.org
SUMMARY:Monthly Membership Meeting
DESCRIPTION:Monthly membership meeting starts at 6:30 pm and lasts for approximately 1 hour. Meeting agenda is available here: AV18_MEMBERSHIP_AGENDA_15MAR2023.
URL:https://amvetsva18.org/event/monthly-membership-meeting/2027-04-21/
ORGANIZER;CN="AMVETS Post 18":MAILTO:amvetsva18@gmail.com
END:VEVENT
BEGIN:VEVENT
DTSTART;TZID=America/New_York:20270519T183000
DTEND;TZID=America/New_York:20270519T193000
DTSTAMP:20260419T234127
CREATED:20230312T200304Z
LAST-MODIFIED:20230312T200304Z
UID:10000053-1810751400-1810755000@amvetsva18.org
SUMMARY:Monthly Membership Meeting
DESCRIPTION:Monthly membership meeting starts at 6:30 pm and lasts for approximately 1 hour. Meeting agenda is available here: AV18_MEMBERSHIP_AGENDA_15MAR2023.
URL:https://amvetsva18.org/event/monthly-membership-meeting/2027-05-19/
ORGANIZER;CN="AMVETS Post 18":MAILTO:amvetsva18@gmail.com
END:VEVENT
BEGIN:VEVENT
DTSTART;TZID=America/New_York:20270616T183000
DTEND;TZID=America/New_York:20270616T193000
DTSTAMP:20260419T234127
CREATED:20230312T200304Z
LAST-MODIFIED:20230312T200304Z
UID:10000054-1813170600-1813174200@amvetsva18.org
SUMMARY:Monthly Membership Meeting
DESCRIPTION:Monthly membership meeting starts at 6:30 pm and lasts for approximately 1 hour. Meeting agenda is available here: AV18_MEMBERSHIP_AGENDA_15MAR2023.
URL:https://amvetsva18.org/event/monthly-membership-meeting/2027-06-16/
ORGANIZER;CN="AMVETS Post 18":MAILTO:amvetsva18@gmail.com
END:VEVENT
BEGIN:VEVENT
DTSTART;TZID=America/New_York:20270721T183000
DTEND;TZID=America/New_York:20270721T193000
DTSTAMP:20260419T234127
CREATED:20230312T200304Z
LAST-MODIFIED:20230312T200304Z
UID:10000055-1816194600-1816198200@amvetsva18.org
SUMMARY:Monthly Membership Meeting
DESCRIPTION:Monthly membership meeting starts at 6:30 pm and lasts for approximately 1 hour. Meeting agenda is available here: AV18_MEMBERSHIP_AGENDA_15MAR2023.
URL:https://amvetsva18.org/event/monthly-membership-meeting/2027-07-21/
ORGANIZER;CN="AMVETS Post 18":MAILTO:amvetsva18@gmail.com
END:VEVENT
BEGIN:VEVENT
DTSTART;TZID=America/New_York:20270818T183000
DTEND;TZID=America/New_York:20270818T193000
DTSTAMP:20260419T234127
CREATED:20230312T200304Z
LAST-MODIFIED:20230312T200304Z
UID:10000056-1818613800-1818617400@amvetsva18.org
SUMMARY:Monthly Membership Meeting
DESCRIPTION:Monthly membership meeting starts at 6:30 pm and lasts for approximately 1 hour. Meeting agenda is available here: AV18_MEMBERSHIP_AGENDA_15MAR2023.
URL:https://amvetsva18.org/event/monthly-membership-meeting/2027-08-18/
ORGANIZER;CN="AMVETS Post 18":MAILTO:amvetsva18@gmail.com
END:VEVENT
BEGIN:VEVENT
DTSTART;TZID=America/New_York:20270915T183000
DTEND;TZID=America/New_York:20270915T193000
DTSTAMP:20260419T234127
CREATED:20230312T200304Z
LAST-MODIFIED:20230312T200304Z
UID:10000057-1821033000-1821036600@amvetsva18.org
SUMMARY:Monthly Membership Meeting
DESCRIPTION:Monthly membership meeting starts at 6:30 pm and lasts for approximately 1 hour. Meeting agenda is available here: AV18_MEMBERSHIP_AGENDA_15MAR2023.
URL:https://amvetsva18.org/event/monthly-membership-meeting/2027-09-15/
ORGANIZER;CN="AMVETS Post 18":MAILTO:amvetsva18@gmail.com
END:VEVENT
BEGIN:VEVENT
DTSTART;TZID=America/New_York:20271020T183000
DTEND;TZID=America/New_York:20271020T193000
DTSTAMP:20260419T234127
CREATED:20230312T200304Z
LAST-MODIFIED:20230312T200304Z
UID:10000058-1824057000-1824060600@amvetsva18.org
SUMMARY:Monthly Membership Meeting
DESCRIPTION:Monthly membership meeting starts at 6:30 pm and lasts for approximately 1 hour. Meeting agenda is available here: AV18_MEMBERSHIP_AGENDA_15MAR2023.
URL:https://amvetsva18.org/event/monthly-membership-meeting/2027-10-20/
ORGANIZER;CN="AMVETS Post 18":MAILTO:amvetsva18@gmail.com
END:VEVENT
BEGIN:VEVENT
DTSTART;TZID=America/New_York:20271117T183000
DTEND;TZID=America/New_York:20271117T193000
DTSTAMP:20260419T234127
CREATED:20230312T200304Z
LAST-MODIFIED:20230312T200304Z
UID:10000059-1826476200-1826479800@amvetsva18.org
SUMMARY:Monthly Membership Meeting
DESCRIPTION:Monthly membership meeting starts at 6:30 pm and lasts for approximately 1 hour. Meeting agenda is available here: AV18_MEMBERSHIP_AGENDA_15MAR2023.
URL:https://amvetsva18.org/event/monthly-membership-meeting/2027-11-17/
ORGANIZER;CN="AMVETS Post 18":MAILTO:amvetsva18@gmail.com
END:VEVENT
BEGIN:VEVENT
DTSTART;TZID=America/New_York:20271215T183000
DTEND;TZID=America/New_York:20271215T193000
DTSTAMP:20260419T234127
CREATED:20230312T200304Z
LAST-MODIFIED:20230312T200304Z
UID:10000060-1828895400-1828899000@amvetsva18.org
SUMMARY:Monthly Membership Meeting
DESCRIPTION:Monthly membership meeting starts at 6:30 pm and lasts for approximately 1 hour. Meeting agenda is available here: AV18_MEMBERSHIP_AGENDA_15MAR2023.
URL:https://amvetsva18.org/event/monthly-membership-meeting/2027-12-15/
ORGANIZER;CN="AMVETS Post 18":MAILTO:amvetsva18@gmail.com
END:VEVENT
BEGIN:VEVENT
DTSTART;TZID=America/New_York:20280119T183000
DTEND;TZID=America/New_York:20280119T193000
DTSTAMP:20260419T234127
CREATED:20230312T200304Z
LAST-MODIFIED:20230312T200304Z
UID:10000061-1831919400-1831923000@amvetsva18.org
SUMMARY:Monthly Membership Meeting
DESCRIPTION:Monthly membership meeting starts at 6:30 pm and lasts for approximately 1 hour. Meeting agenda is available here: AV18_MEMBERSHIP_AGENDA_15MAR2023.
URL:https://amvetsva18.org/event/monthly-membership-meeting/2028-01-19/
ORGANIZER;CN="AMVETS Post 18":MAILTO:amvetsva18@gmail.com
END:VEVENT
BEGIN:VEVENT
DTSTART;TZID=America/New_York:20280216T183000
DTEND;TZID=America/New_York:20280216T193000
DTSTAMP:20260419T234127
CREATED:20230312T200304Z
LAST-MODIFIED:20230312T200304Z
UID:10000062-1834338600-1834342200@amvetsva18.org
SUMMARY:Monthly Membership Meeting
DESCRIPTION:Monthly membership meeting starts at 6:30 pm and lasts for approximately 1 hour. Meeting agenda is available here: AV18_MEMBERSHIP_AGENDA_15MAR2023.
URL:https://amvetsva18.org/event/monthly-membership-meeting/2028-02-16/
ORGANIZER;CN="AMVETS Post 18":MAILTO:amvetsva18@gmail.com
END:VEVENT
END:VCALENDAR